BEGIN:VCALENDAR
VERSION:2.0
PRODID:-//eventon.com NONSGML v1.0//EN
CALSCALE:GREGORIAN
METHOD:PUBLISH
BEGIN:VEVENT
UID:69eafd681b5f2
DTSTAMP:20260424T051936Z
DTSTART:20210413T163000Z
DTEND:20210429T170000Z
LOCATION:
SUMMARY:CICLO DE CONFERENCIAS «HORIZONTE VALLADOLID-FILIPINAS 1521»
DESCRIPTION:CICLO DE CONFERENCIAS «HORIZONTE VALLADOLID-FILIPINAS 1521»\n
 https://fyl-en.uva.es/events/ciclo-de-conferencias-horizonte-valladolid-fil
 ipinas-1521/
URL:https://fyl-en.uva.es/events/ciclo-de-conferencias-horizonte-valladolid-filipinas-1521/
END:VEVENT
END:VCALENDAR